BEGIN:VCALENDAR
VERSION:2.0
PRODID:-//Revival Watch - ECPv6.15.20//NONSGML v1.0//EN
CALSCALE:GREGORIAN
METHOD:PUBLISH
X-ORIGINAL-URL:https://revival-watch.org
X-WR-CALDESC:Events for Revival Watch
REFRESH-INTERVAL;VALUE=DURATION:PT1H
X-Robots-Tag:noindex
X-PUBLISHED-TTL:PT1H
BEGIN:VTIMEZONE
TZID:America/Chicago
BEGIN:DAYLIGHT
TZOFFSETFROM:-0600
TZOFFSETTO:-0500
TZNAME:CDT
DTSTART:20240310T080000
END:DAYLIGHT
BEGIN:STANDARD
TZOFFSETFROM:-0500
TZOFFSETTO:-0600
TZNAME:CST
DTSTART:20241103T070000
END:STANDARD
BEGIN:DAYLIGHT
TZOFFSETFROM:-0600
TZOFFSETTO:-0500
TZNAME:CDT
DTSTART:20250309T080000
END:DAYLIGHT
BEGIN:STANDARD
TZOFFSETFROM:-0500
TZOFFSETTO:-0600
TZNAME:CST
DTSTART:20251102T070000
END:STANDARD
BEGIN:DAYLIGHT
TZOFFSETFROM:-0600
TZOFFSETTO:-0500
TZNAME:CDT
DTSTART:20260308T080000
END:DAYLIGHT
BEGIN:STANDARD
TZOFFSETFROM:-0500
TZOFFSETTO:-0600
TZNAME:CST
DTSTART:20261101T070000
END:STANDARD
END:VTIMEZONE
BEGIN:VEVENT
DTSTART;TZID=America/Chicago:20250226T173000
DTEND;TZID=America/Chicago:20250226T183000
DTSTAMP:20260425T051724
CREATED:20250223T230559Z
LAST-MODIFIED:20250226T212033Z
UID:313-1740591000-1740594600@revival-watch.org
SUMMARY:Weekly Fast - No Waste at the Alter
DESCRIPTION:Please join us as we fast for the day each Wednesday. I then share a short live video each Wednesday Evening\, I hope that will join us both in the fast and for our live stream. \nREVIVAL WATCH – WEEKLY FAST 2_26_2025 – No waste at the alter
URL:https://revival-watch.org/event/nowasteat-thealte/
CATEGORIES:Weekly Fast
ATTACH;FMTTYPE=image/png:https://revival-watch.org/wp-content/uploads/2025/02/No-Waste-at-the-Alter.png
END:VEVENT
END:VCALENDAR