BEGIN:VCALENDAR
VERSION:2.0
PRODID:-//Revival Watch - ECPv6.15.20//NONSGML v1.0//EN
CALSCALE:GREGORIAN
METHOD:PUBLISH
X-WR-CALNAME:Revival Watch
X-ORIGINAL-URL:https://revival-watch.org
X-WR-CALDESC:Events for Revival Watch
REFRESH-INTERVAL;VALUE=DURATION:PT1H
X-Robots-Tag:noindex
X-PUBLISHED-TTL:PT1H
BEGIN:VTIMEZONE
TZID:America/Chicago
BEGIN:DAYLIGHT
TZOFFSETFROM:-0600
TZOFFSETTO:-0500
TZNAME:CDT
DTSTART:20230312T080000
END:DAYLIGHT
BEGIN:STANDARD
TZOFFSETFROM:-0500
TZOFFSETTO:-0600
TZNAME:CST
DTSTART:20231105T070000
END:STANDARD
BEGIN:DAYLIGHT
TZOFFSETFROM:-0600
TZOFFSETTO:-0500
TZNAME:CDT
DTSTART:20240310T080000
END:DAYLIGHT
BEGIN:STANDARD
TZOFFSETFROM:-0500
TZOFFSETTO:-0600
TZNAME:CST
DTSTART:20241103T070000
END:STANDARD
BEGIN:DAYLIGHT
TZOFFSETFROM:-0600
TZOFFSETTO:-0500
TZNAME:CDT
DTSTART:20250309T080000
END:DAYLIGHT
BEGIN:STANDARD
TZOFFSETFROM:-0500
TZOFFSETTO:-0600
TZNAME:CST
DTSTART:20251102T070000
END:STANDARD
END:VTIMEZONE
BEGIN:VEVENT
DTSTART;TZID=America/Chicago:20241104T190000
DTEND;TZID=America/Chicago:20241104T190000
DTSTAMP:20260424T210751
CREATED:20241025T195353Z
LAST-MODIFIED:20241029T014103Z
UID:116-1730746800-1730746800@revival-watch.org
SUMMARY:Revival Watch - Election Watch
DESCRIPTION:Come join us for a special Revival Watch meeting as we focus our attention and focus our prayer focus on the elections which will conclude the following day. We will take our stand and pray that Godly and God fearing leaders will be elected from the highest of offices\, President to those on the local levels and everything in between. In addition\, we will be asking individuals to take an hour of  “Watch” beginning at 8 PM Monday 11/4 until the time our polls close at 7 PM on Tuesday.   Prayer Point Scriptures
URL:https://revival-watch.org/event/revival-watch-election-watch/
LOCATION:Howard County Courthouse (North Side)\, 312 Scurry St\, Big Spring\, TX\, 79720\, United States
CATEGORIES:SPECIAL EVENTS
ORGANIZER;CN="Revival Watch":MAILTO:revivalwatch.247@gmail.com
END:VEVENT
END:VCALENDAR